BEGIN:VCALENDAR
VERSION:2.0
PRODID:-// - ECPv6.15.20//NONSGML v1.0//EN
CALSCALE:GREGORIAN
METHOD:PUBLISH
X-ORIGINAL-URL:https://candycloudstore.com
X-WR-CALDESC:Events for 
REFRESH-INTERVAL;VALUE=DURATION:PT1H
X-Robots-Tag:noindex
X-PUBLISHED-TTL:PT1H
BEGIN:VTIMEZONE
TZID:America/New_York
BEGIN:DAYLIGHT
TZOFFSETFROM:-0500
TZOFFSETTO:-0400
TZNAME:EDT
DTSTART:20220313T070000
END:DAYLIGHT
BEGIN:STANDARD
TZOFFSETFROM:-0400
TZOFFSETTO:-0500
TZNAME:EST
DTSTART:20221106T060000
END:STANDARD
BEGIN:DAYLIGHT
TZOFFSETFROM:-0500
TZOFFSETTO:-0400
TZNAME:EDT
DTSTART:20230312T070000
END:DAYLIGHT
BEGIN:STANDARD
TZOFFSETFROM:-0400
TZOFFSETTO:-0500
TZNAME:EST
DTSTART:20231105T060000
END:STANDARD
BEGIN:DAYLIGHT
TZOFFSETFROM:-0500
TZOFFSETTO:-0400
TZNAME:EDT
DTSTART:20240310T070000
END:DAYLIGHT
BEGIN:STANDARD
TZOFFSETFROM:-0400
TZOFFSETTO:-0500
TZNAME:EST
DTSTART:20241103T060000
END:STANDARD
END:VTIMEZONE
BEGIN:VTIMEZONE
TZID:UTC
BEGIN:STANDARD
TZOFFSETFROM:+0000
TZOFFSETTO:+0000
TZNAME:UTC
DTSTART:20220101T000000
END:STANDARD
END:VTIMEZONE
BEGIN:VEVENT
DTSTART;TZID=America/New_York:20231105T080000
DTEND;TZID=America/New_York:20231105T170000
DTSTAMP:20260421T203321
CREATED:20231005T225807Z
LAST-MODIFIED:20231005T225807Z
UID:48-1699171200-1699203600@candycloudstore.com
SUMMARY:Fanwood Popup - Fanwood\, NJ - November 5th\, 2023
DESCRIPTION:Fanwood Vendor Pop Up\n\nHeld in the upscale town of Fanwood\, NJ\, this event is staged in the Fanwood Train Station parking lot. It will feature approximately 40 exhibitors selling very cool items. You will find arts & crafts\, candles\, jewelry\, fashion & accessories\, health & beauty\, home decor\, sports collectibles\, and many other new items. \nStay awhile to enjoy the shopping\, live entertainment\, and selection of food vendors. \nCustomer parking is available at the train station on the north side. Use this address to find that station: 234 North Ave.\, Fanwood\, NJ.
URL:https://candycloudstore.com/event/fanwood-popup-fanwood-nj-november-5th-2023/
LOCATION:Fanwood Train Station\, 234 North Ave\, Fanwood\, NJ\, 07023
END:VEVENT
BEGIN:VEVENT
DTSTART;TZID=America/New_York:20231029T110000
DTEND;TZID=America/New_York:20231029T170000
DTSTAMP:20260421T203321
CREATED:20231005T225451Z
LAST-MODIFIED:20231005T225833Z
UID:44-1698577200-1698598800@candycloudstore.com
SUMMARY:New Providence Street Fair - New Providence\, NJ - October 29th\, 2024
DESCRIPTION:New Providence Street Fair\n\nThe New Providence Street Fair returns to downtown New Providence on Sunday\, October 29\, 2023! The fair will be held on Springfield Avenue\, between South Street and Livingston Avenue\, from 11 AM – 5 PM\, rain or shine. \nHeld in the main thoroughfare of the borough\, the fair promises a day of fun for the entire family and draws a crowd of OVER 5\,000 people! The streets are filled with various exhibits\, vendors\, and activities. Children will have fun activities\, such as face painting and storytelling. Food vendors will sell refreshments and delicious food throughout the day. Local residents and visitors come to enjoy the food and entertainment. B
URL:https://candycloudstore.com/event/new-providence-street-fair-new-providence-nj-october-29th-2024/
LOCATION:New Providence\, NJ\, Springfield Ave\, New Providence\, NJ
END:VEVENT
BEGIN:VEVENT
DTSTART;TZID=America/New_York:20231028T110000
DTEND;TZID=America/New_York:20231028T190000
DTSTAMP:20260421T203321
CREATED:20231005T225238Z
LAST-MODIFIED:20231021T214044Z
UID:41-1698490800-1698519600@candycloudstore.com
SUMMARY:NO LONGER ATTENDING - Elmwood Park Community Day (With Fireworks) - Elmwood Park\, NJ - October 28th\, 2023
DESCRIPTION:Candy Clouds will not be attending this event due to unexpected circumstances. We hope you enjoy the day as it is sure to be fun filled with many incredible vendors participating. \n  \n  \n\n\n\n  \n  \nElmwood Park Community Day with Fireworks \nThis event is sponsored by the Elmwood Park Recreation Department and will be held along Market Street from 11AM-7 PM rain or shine. The Fireworks Show will begin at approximately 7:15 PM. The street will be closed to vehicle traffic during the event and will be transformed into a giant block party. \nIf you like shopping outdoors then this is the place to be. We have quality exhibitors selling a selection of assorted items\, a special arts & crafts section\, live entertainment\, kiddie rides & games\, great festival foods & food trucks\, and so much more. Local organizations are welcome to join this community event. \nAs you stroll along\, stop to have a bite to eat and sit at tables in our live music area. See the show we have planned with live music\, games\, free rides\, food\, a beer garden\, vendors\, giveaways & more. \nCome hungry and enjoy eating carnival food favorites like a sausage & pepper sandwich\, cheese steaks\, kettle corn\, chicken fingers\, ice cream\, zeppole\, shish kabobs\, gyros\, fresh-cut fries\, fresh-squeezed lemonade\, Italian ice\, and the many great gourmet foods from the food trucks. \nWe also have The “Kid’s Traveling Shindig” which is a section dedicated to children with kiddie bounce rides ( the bounces houses for the kids are no cost) and interactive blow-ups\, face painters\, sand art & kids’ games just to name a few things. \nAt dusk\, there will be a fireworks display to cap off the celebration. The display will start at approximately 7:15 pm. \nThis event brings the whole community together.  Come and join in the fun. \nThroughout the day we’ll have 2 live bands perform. The first is the 50’s Experience featuring Kevin Grace.  He will be performing covers of the 1950’s Rock and Rat Pack Hits.  The second bad is American Kids who will be performing hits from the 1970’s and 1980’s.
URL:https://candycloudstore.com/event/elmwood-park-community-day-with-fireworks-elmwood-park-nj-october-28th-2023/
LOCATION:Fairlawn\, NJ\, Market St.\, Fairlawn\, NJ
END:VEVENT
BEGIN:VEVENT
DTSTART;TZID=America/New_York:20231022T100000
DTEND;TZID=America/New_York:20231022T170000
DTSTAMP:20260421T203321
CREATED:20231005T223323Z
LAST-MODIFIED:20231021T213846Z
UID:35-1697968800-1697994000@candycloudstore.com
SUMMARY:CANCELED - CANCELED NJ Botanical Gardens Harvest Fest - Ringwood\, NJ - October 22nd\, 2023
DESCRIPTION:Unfortunately the Craft/Arts/Vendors portion of the Harvest Fest has been canceled and we will no longer be in attendance. \nThe Kids Activities remain along with all of the activities and live music\, and multiple food trucks will be in attendance.  \n  \n  \n  \nhttps://www.njbg.org/event/harvest-fest/ \nIt’s bushels of fun at the NJBG Harvest Fest at the New Jersey State Botanical Garden in Ringwood. \nThere’ll be hayrides\, pumpkin painting\, games\, walks\, tours\, food trucks and a craft fair. \n\nProceeds from Harvest Fest activities benefit NJBG\, the non-profit member support group for the New Jersey State Botanical Garden. If your business or organization is interested in sponsoring an activity or donating in other ways\, please contact the NJBG office at 973-962-9534. Your generosity will be publicly acknowledged at the festival\, and contributions are tax-deductible. \nCraft Fair • Pumpkin Painting • Games • Walks • Tours • Applesauce Making • Autumn Plant Sale • Food • Music \nFree Admission. Parking $5
URL:https://candycloudstore.com/event/nj-botanical-gardens-harvest-fest-ringwood-nj-october-22-2023/
LOCATION:NJ Botanical Gardens\, 2 Morris Rd\, Ringwood\, NJ\, 07450\, United States
END:VEVENT
BEGIN:VEVENT
DTSTART;TZID=America/New_York:20231015T110000
DTEND;TZID=America/New_York:20231015T170000
DTSTAMP:20260421T203321
CREATED:20231005T223827Z
LAST-MODIFIED:20231005T225825Z
UID:38-1697367600-1697389200@candycloudstore.com
SUMMARY:Fairlawn Street Fair - Fairlawn\, NJ - October 15th\, 2023
DESCRIPTION:FAIR LAWN STREET FAIR & CRAFT SHOW\n\nSunday\, October 15\, 2023\n11:00 AM  5:00 PM\n\n\nDowntown Fair Lawn\, NJRiver RoadFair Lawn\, NJ 07410United States (map)
URL:https://candycloudstore.com/event/fairlawn-street-fair-fairlawn-nj-october-15th-2023/
LOCATION:Downtown Fairlawn\, NJ\, River Rd.\, Fairlawn\, New Jersey
END:VEVENT
BEGIN:VEVENT
DTSTART;TZID=UTC:20231008T100000
DTEND;TZID=UTC:20231008T170000
DTSTAMP:20260421T203321
CREATED:20230927T003235Z
LAST-MODIFIED:20231005T225818Z
UID:22-1696759200-1696784400@candycloudstore.com
SUMMARY:Fannywood Day - Fanwood\, NJ - Sunday October 8th
DESCRIPTION:Fanny Wood Day: Sunday\, October 8\, 2023 \n \nHosted by the Borough of Fanwood NJ & the Fanny Wood Day Committee\, Fanny Wood Day is much more than just a street fair. Besides the many food and craft vendors\, this year’s Fanny Wood Day will host a wide array of activities including the return of kid-friendly activities in the KIDS ZONE such as a trackless train\, petting zoo\, pony rides\, and numerous kiddie rides. \nFun games & activities…from 10:00 am to 5:00 p.m. – Visit us at the south side train station parking lot on South Ave in the Kids Zone. Free activities with Scotch Plains -Fanwood YMCA include: Paint your own “Y” T-shirt\, Make your own slime\, Corn hole games\, Soccer goal kicks- Obstacle course. \nFun & games…back by popular demand are many of the same contests such as the scavenger hunt\, pizza eating\, ice cream eating\, bubble blowing\, water balloon toss\, and more! \nDelicious food…If contests aren’t your thing\, grab some delicious food from one of the many food exhibitors and trucks. Some of the foods being sold are gourmet empanadas\, tornado potatoes\, shish kabob\, gyros\, chicken fingers & fries\, hot dogs\, hamburgers\, fresh squeezed lemonade\, ice cream & lemon ice\, sausage & peppers\, steak sandwiches\, and zeppoles\, funnel cakes and more! \nLive Music...Don’t miss the hot show we have planned with live music from local bands. There will be chairs and tables set up so you can relax\, eat and enjoy the show all day long. \nShop…with quality exhibitors selling their merchandise such as jewelry\, handbags\, sports collectibles\, clothing\, home decor\, and much more. There is a special section with handmade crafts from local and nearby crafters and artisans with unique one-of-a-kind items. Don’t miss stopping by the many local merchants & civic organizations to see what goodies they are passing out. \nFanny Wood Day has something to offer everyone\, so kick back for some serious people-watching\, stroll the many interesting booths\, visit the local merchants\, eat some great food while listening to music and enjoy a beautiful day in Fanwood. \nCustomer parking is available at the train station on the north side. Use this address to find that station: 234 North Ave.\, Fanwood\, NJ.
URL:https://candycloudstore.com/event/fannywood-day-fanwood-nj-sunday-october-8th/
LOCATION:NJ
END:VEVENT
END:VCALENDAR